BEGIN:VCALENDAR
VERSION:2.0
PRODID:-//wp-events-plugin.com//7.2.3.1//EN
TZID:Europe/London
X-WR-TIMEZONE:Europe/London
BEGIN:VEVENT
UID:6@nicholaspriory.com
DTSTART;TZID=Europe/London:20230329T193000
DTEND;TZID=Europe/London:20230329T193000
DTSTAMP:20230322T134748Z
URL:https://nicholaspriory.com/events/shakespeares-much-ado-about-nothing-
 troubadour-stageworks/
SUMMARY:Shakespeare’s “Much Ado About Nothing” – Troubadour Stagewo
 rks
DESCRIPTION:[vc_row css=".vc_custom_1679492508101{margin-top: 30px !importa
 nt\;}"][vc_column][vc_column_text]Shakespeare’s classic at St Nicholas P
 riory by acclaimed Troubadour Stageworks!\n\nTo find out more about Trouba
 dour Stageworks\, please click here.[/vc_column_text][vcex_image img_size
 ="medium" onclick="custom_link" onclick_target="_blank" image_id="879" onc
 lick_url="https://inexeter.co.uk/"][vc_column_text]St Nicholas Priory\n\nF
 ounded by William the Conqueror in 1087\, St Nicholas Priory was home to B
 enedictine monks for over 400 years and is the oldest building in Exeter. 
 In 1536\, like other monasteries\, it was closed and the remains became th
 e home of wealthy Tudor merchants.[/vc_column_text][/vc_column][/vc_row]
ATTACH;FMTTYPE=image/jpeg:https://nicholaspriory.com/wp-content/uploads/20
 22/09/much-ado.png
CATEGORIES:Arts
LOCATION:St Nicholas Priory\, Mint Lane\, Off Fore Street\, Exeter\, Devon\
 , EX4 3BL\, United Kingdom
X-APPLE-STRUCTURED-LOCATION;VALUE=URI;X-ADDRESS=Mint Lane\, Off Fore Street
 \, Exeter\, Devon\, EX4 3BL\, United Kingdom;X-APPLE-RADIUS=100;X-TITLE=St
  Nicholas Priory:geo:0,0
END:VEVENT
BEGIN:VTIMEZONE
TZID:Europe/London
X-LIC-LOCATION:Europe/London
BEGIN:DAYLIGHT
DTSTART:20230326T020000
TZOFFSETFROM:+0000
TZOFFSETTO:+0100
TZNAME:BST
END:DAYLIGHT
END:VTIMEZONE
END:VCALENDAR