BEGIN:VCALENDAR
VERSION:2.0
PRODID:-//wp-events-plugin.com//7.2.3.1//EN
TZID:Europe/London
X-WR-TIMEZONE:Europe/London
BEGIN:VEVENT
UID:1045@nicholaspriory.com
DTSTART;TZID=Europe/London:20260426T133000
DTEND;TZID=Europe/London:20260426T153000
DTSTAMP:20260127T195709Z
URL:https://nicholaspriory.com/events/shakespeares-diet-elizabethan-food/
SUMMARY:Shakespeare’s Diet: Elizabethan Food
DESCRIPTION:&nbsp\;\n\nThis practical demonstration in the kitchens of a ri
 ch Elizabethan merchant will allow us a glimpse of what Shakespeare and hi
 s contemporaries would have eaten.\n\nDrop in\, Free Entry but donations a
 re welcome.\n\n&nbsp\;\n\n\n\nDirections\nSt Nicholas Priory is on Mint La
 ne with walking access from Fore Street or Bartholomew Street West.\n\nThe
  nearest car park is Mary Arches Street\, which is a five-minute walk. Ex
 eter Central railway station is a ten-minute walk. The bus station is a 
 15-minute walk with many buses stopping on the High Street which is ten mi
 nutes away.\n\nAccess\nUnfortunately\, due to the nature of this historic 
 building\, there is no wheelchair access for our upstairs rooms.\n\nFacili
 ties\nOur outdoor toilet block can be made available on request.\n\nIf you
  have any questions or concerns about your visit please email admin@nicho
 laspriory.com
ATTACH;FMTTYPE=image/jpeg:https://nicholaspriory.com/wp-content/uploads/20
 26/01/Tudor-cooking-at-St-Nicholas-Priory-Visit-Exeter-scaled.jpg
CATEGORIES:Arts,Featured,Opening
LOCATION:St Nicholas Priory\, Mint Lane\, Off Fore Street\, Exeter\, Devon\
 , EX4 3BL\, United Kingdom
X-APPLE-STRUCTURED-LOCATION;VALUE=URI;X-ADDRESS=Mint Lane\, Off Fore Street
 \, Exeter\, Devon\, EX4 3BL\, United Kingdom;X-APPLE-RADIUS=100;X-TITLE=St
  Nicholas Priory:geo:0,0
END:VEVENT
BEGIN:VTIMEZONE
TZID:Europe/London
X-LIC-LOCATION:Europe/London
BEGIN:DAYLIGHT
DTSTART:20260329T020000
TZOFFSETFROM:+0000
TZOFFSETTO:+0100
TZNAME:BST
END:DAYLIGHT
END:VTIMEZONE
END:VCALENDAR