BEGIN:VCALENDAR
VERSION:2.0
PRODID:-//wp-events-plugin.com//7.2.3.1//EN
TZID:Europe/London
X-WR-TIMEZONE:Europe/London
BEGIN:VEVENT
UID:621@nicholaspriory.com
DTSTART;TZID=Europe/London:20251115T193000
DTEND;TZID=Europe/London:20251115T213000
DTSTAMP:20250927T205226Z
URL:https://nicholaspriory.com/events/sacred-and-profane-music-of-the-midd
 le-ages-medieval-concert/
SUMMARY:Sacred and Profane: Music of the Middle Ages - Medieval Concert
DESCRIPTION:Join Marco Cannavò\, Steve Tyler\, and Katy Marchant for - SAC
 RED AND PROFANE: MUSIC OF THE MIDDLE AGES\n\nAn evening of beautiful music
  from the 12th to 15th centuries.\n\nEnjoy sacred and secular songs from m
 edieval Europe\, played on unique instruments from the past\, including th
 e hurdy-gurdy\, citole\, organistrum\, symphonie\, portative organ\, bladd
 er pipe\, bagpipes\, gothic harp\, and percussion.\nYou won't want to miss
  it! Come and enjoy this unique experience!\n\nDoors at 7:00pm for 7:30pm 
 start.\n\nCombine with the Medieval Music Workshop the same day to save £
 2.00 for the combined ticket.\n\nDirections\nSt Nicholas Priory is on Mint
  Lane with walking access from Fore Street or Bartholomew Street West.\n\n
 The nearest car park is Mary Arches Street\, which is a five-minute walk.
  Exeter Central railway station is a ten-minute walk. The bus station i
 s a 15-minute walk with many buses stopping on the High Street which is te
 n minutes away.\n\nAccess\nUnfortunately\, due to the nature of this histo
 ric building\, there is no wheelchair access for our upstairs rooms.\n\nFa
 cilities\nOur outdoor toilet block can be made available on request.\n\nIf
  you have any questions or concerns about your visit please email admin@n
 icholaspriory.com
ATTACH;FMTTYPE=image/jpeg:https://nicholaspriory.com/wp-content/uploads/20
 25/09/Medieval.jpg
CATEGORIES:Featured,Music
LOCATION:St Nicholas Priory\, Mint Lane\, Off Fore Street\, Exeter\, Devon\
 , EX4 3BL\, United Kingdom
X-APPLE-STRUCTURED-LOCATION;VALUE=URI;X-ADDRESS=Mint Lane\, Off Fore Street
 \, Exeter\, Devon\, EX4 3BL\, United Kingdom;X-APPLE-RADIUS=100;X-TITLE=St
  Nicholas Priory:geo:0,0
END:VEVENT
BEGIN:VTIMEZONE
TZID:Europe/London
X-LIC-LOCATION:Europe/London
BEGIN:STANDARD
DTSTART:20251026T010000
TZOFFSETFROM:+0100
TZOFFSETTO:+0000
TZNAME:GMT
END:STANDARD
END:VTIMEZONE
END:VCALENDAR