BEGIN:VCALENDAR
VERSION:2.0
PRODID:-//wp-events-plugin.com//7.2.3.1//EN
TZID:Europe/London
X-WR-TIMEZONE:Europe/London
BEGIN:VEVENT
UID:243@nicholaspriory.com
DTSTART;TZID=Europe/London:20230609T193000
DTEND;TZID=Europe/London:20230609T203000
DTSTAMP:20230510T173022Z
URL:https://nicholaspriory.com/events/queer_baroque/
SUMMARY:Queer Baroque - Joe Levy\, 7:30pm
DESCRIPTION:In celebration of Pride month 2023\, countertenor Joe Levy expl
 ores the relationship between Classical music and the LGBTQIA+ community w
 ith ‘Queer Baroque’. Accompanied on the piano by Konstantinos Terzakis
 \, Joe is performing two concerts at St Nicholas’ Priory\, Exeter’s ol
 dest building\, on 9th and 23d June 2023 at 7.30pm.\n\nWith a focus on the
  Baroque period\, the concerts will reveal not only queer composers of the
  time (Handel\, Lully)\, but also how music from other artists have become
  part of LGBTQIA+ history and culture. Baroque culture can often challenge
  our understanding of historical attitudes towards gender and sexuality\, 
 whether that be through fashion or through the personal histories of peopl
 e at the time. ‘Queer Baroque’ will attempt to illuminate this\, provi
 ding valuable insight on how we can celebrate queer artists and their cont
 ribution to society today.\n\nWe'll run a bar and look forward to celebrat
 ing together. Thank you to the Co-op for sponsoring our event!\n\n\n\n
ATTACH;FMTTYPE=image/jpeg:https://nicholaspriory.com/wp-content/uploads/20
 23/04/Handel-Baroque-image.png
CATEGORIES:Arts,History,Music,Performance
LOCATION:St Nicholas Priory\, Mint Lane\, Off Fore Street\, Exeter\, Devon\
 , EX4 3BL\, United Kingdom
X-APPLE-STRUCTURED-LOCATION;VALUE=URI;X-ADDRESS=Mint Lane\, Off Fore Street
 \, Exeter\, Devon\, EX4 3BL\, United Kingdom;X-APPLE-RADIUS=100;X-TITLE=St
  Nicholas Priory:geo:0,0
END:VEVENT
BEGIN:VTIMEZONE
TZID:Europe/London
X-LIC-LOCATION:Europe/London
BEGIN:DAYLIGHT
DTSTART:20230326T020000
TZOFFSETFROM:+0000
TZOFFSETTO:+0100
TZNAME:BST
END:DAYLIGHT
END:VTIMEZONE
END:VCALENDAR