BEGIN:VCALENDAR
VERSION:2.0
PRODID:-//wp-events-plugin.com//7.2.3.1//EN
TZID:Europe/London
X-WR-TIMEZONE:Europe/London
BEGIN:VEVENT
UID:772@nicholaspriory.com
DTSTART;TZID=Europe/London:20260314T180000
DTEND;TZID=Europe/London:20260314T200000
DTSTAMP:20260202T105734Z
URL:https://nicholaspriory.com/events/monks-and-mortality/
SUMMARY:Monks and Mortality
DESCRIPTION:A mixture of sight and sound in the ancient Priory of St Nichol
 as\n\nHear medieval chants and poetry and learn interesting facts about St
  Nicholas Priory\, Monks\, Nuns and much more.\n\nHear how medieval folk e
 xpressed their views on mortality as portrayed in their poems\n\nAll illus
 trated by colourful images splashed across the ancient walls of the Great 
 Chamber.\n\nNow with special guest\, International musician and story-tell
 er\, Cole Stacey adding his voice to the performance.\n\nRefreshments Avai
 lable.\n\nDoors at 5:30pm for a 6pm start\n\nDirections\nSt Nicholas Prior
 y is on Mint Lane with walking access from Fore Street or Bartholomew Stre
 et West.\n\nThe nearest car park is Mary Arches Street\, which is a five-m
 inute walk. Exeter Central railway station is a ten-minute walk. The bu
 s station is a 15-minute walk with many buses stopping on the High Street 
 which is ten minutes away.\n\nAccess\nUnfortunately\, due to the nature of
  this historic building\, there is no wheelchair access for our upstairs r
 ooms.\n\nFacilities\nOur outdoor toilet block can be made available on req
 uest.\n\nIf you have any questions or concerns about your visit please ema
 il admin@nicholaspriory.com
ATTACH;FMTTYPE=image/jpeg:https://nicholaspriory.com/wp-content/uploads/20
 25/11/Screenshot_20251124_134227.jpg
CATEGORIES:Arts,Featured,History,Performance
LOCATION:St Nicholas Priory\, Mint Lane\, Off Fore Street\, Exeter\, Devon\
 , EX4 3BL\, United Kingdom
X-APPLE-STRUCTURED-LOCATION;VALUE=URI;X-ADDRESS=Mint Lane\, Off Fore Street
 \, Exeter\, Devon\, EX4 3BL\, United Kingdom;X-APPLE-RADIUS=100;X-TITLE=St
  Nicholas Priory:geo:0,0
END:VEVENT
BEGIN:VTIMEZONE
TZID:Europe/London
X-LIC-LOCATION:Europe/London
BEGIN:STANDARD
DTSTART:20251026T010000
TZOFFSETFROM:+0100
TZOFFSETTO:+0000
TZNAME:GMT
END:STANDARD
END:VTIMEZONE
END:VCALENDAR