BEGIN:VCALENDAR
VERSION:2.0
PRODID:-//wp-events-plugin.com//7.2.3.1//EN
TZID:Europe/London
X-WR-TIMEZONE:Europe/London
BEGIN:VEVENT
UID:620@nicholaspriory.com
DTSTART;TZID=Europe/London:20251115T140000
DTEND;TZID=Europe/London:20251115T153000
DTSTAMP:20251007T193653Z
URL:https://nicholaspriory.com/events/medieval-music-workshop/
SUMMARY:Medieval Music Workshop
DESCRIPTION:Join Marco Cannavò\, Steve Tyler\, and Katy Marchant for an in
 teractive and family-friendly Medieval Music Workshop!\n\nIn this relaxed 
 session\, they'll demonstrate how different medieval instruments sound and
  show how they were played. There will be plenty of time to ask questions 
 and see the instruments up close. For those interested\, some of the instr
 uments may be available to try out under supervision (though not all instr
 uments can be handled).\n\nThis workshop is perfect for everyone\, includi
 ng families (children should be accompanied by a parent or guardian). Scho
 ol groups are warmly invited to join.\n\nA wonderful way to dive into medi
 eval music and explore its unique sounds and traditions. Come and enjoy th
 is unique experience!\n\nCombine with the Sacred and Divine Concert the sa
 me evening to save £2.00 for the combined ticket.\n\n&nbsp\;\n\nDirection
 s\nSt Nicholas Priory is on Mint Lane with walking access from Fore Street
  or Bartholomew Street West.\n\nThe nearest car park is Mary Arches Street
 \, which is a five-minute walk. Exeter Central railway station is a ten-
 minute walk. The bus station is a 15-minute walk with many buses stopping
  on the High Street which is ten minutes away.\n\nAccess\nUnfortunately\, 
 due to the nature of this historic building\, there is no wheelchair acces
 s for our upstairs rooms.\n\nFacilities\nOur outdoor toilet block can be m
 ade available on request.\n\nIf you have any questions or concerns about y
 our visit please email admin@nicholaspriory.com
ATTACH;FMTTYPE=image/jpeg:https://nicholaspriory.com/wp-content/uploads/20
 25/09/Medieval.jpg
CATEGORIES:Featured,Music
LOCATION:St Nicholas Priory\, Mint Lane\, Off Fore Street\, Exeter\, Devon\
 , EX4 3BL\, United Kingdom
X-APPLE-STRUCTURED-LOCATION;VALUE=URI;X-ADDRESS=Mint Lane\, Off Fore Street
 \, Exeter\, Devon\, EX4 3BL\, United Kingdom;X-APPLE-RADIUS=100;X-TITLE=St
  Nicholas Priory:geo:0,0
END:VEVENT
BEGIN:VTIMEZONE
TZID:Europe/London
X-LIC-LOCATION:Europe/London
BEGIN:STANDARD
DTSTART:20251026T010000
TZOFFSETFROM:+0100
TZOFFSETTO:+0000
TZNAME:GMT
END:STANDARD
END:VTIMEZONE
END:VCALENDAR