BEGIN:VCALENDAR
VERSION:2.0
PRODID:-//wp-events-plugin.com//7.2.3.1//EN
TZID:Europe/London
X-WR-TIMEZONE:Europe/London
BEGIN:VEVENT
UID:618@nicholaspriory.com
DTSTART;TZID=Europe/London:20251026T100000
DTEND;TZID=Europe/London:20251026T160000
DTSTAMP:20250922T123413Z
URL:https://nicholaspriory.com/events/history-of-womens-work-event/
SUMMARY:History of Women's Work Event
DESCRIPTION:Find out why a woman’s work was never done. On Sunday 26 Octo
 ber the History Reenactment Workshop will bring St Nicholas Priory to life
  as it would have been in c.1600. Using new research by Professor Jane Whi
 ttle and her team at the University of Exeter that reveals evidence of the
  history of women’s work in unprecedented detail and coverage\, they wil
 l engage in everyday work activities. Just drop in and have a chat with th
 em to find out more about our historical working lives. There will also be
  a treasure hunt quiz. An exhibition about the history of women’s work i
 llustrated with art from the period will be on display from 19 Oct-10 Nov.
  These events are free to attend\, no booking required.\n\nDirections\nSt 
 Nicholas Priory is on Mint Lane with walking access from Fore Street or Ba
 rtholomew Street West.\n\nThe nearest car park is Mary Arches Street\, whi
 ch is a five-minute walk. Exeter Central railway station is a ten-minute
  walk. The bus station is a 15-minute walk with many buses stopping on th
 e High Street which is ten minutes away.\n\nAccess\nUnfortunately\, due to
  the nature of this historic building\, there is no wheelchair access for 
 our upstairs rooms.\n\nFacilities\nOur outdoor toilet block can be made av
 ailable on request.\n\nIf you have any questions or concerns about your vi
 sit please email admin@nicholaspriory.com
ATTACH;FMTTYPE=image/jpeg:https://nicholaspriory.com/wp-content/uploads/20
 25/09/Aertson_The-Fat-Kitchen_KMSsp339_cropped-scaled.jpg
CATEGORIES:Crafts,Featured,History,Interactive Experience,Opening
LOCATION:St Nicholas Priory\, Mint Lane\, Off Fore Street\, Exeter\, Devon\
 , EX4 3BL\, United Kingdom
X-APPLE-STRUCTURED-LOCATION;VALUE=URI;X-ADDRESS=Mint Lane\, Off Fore Street
 \, Exeter\, Devon\, EX4 3BL\, United Kingdom;X-APPLE-RADIUS=100;X-TITLE=St
  Nicholas Priory:geo:0,0
END:VEVENT
BEGIN:VTIMEZONE
TZID:Europe/London
X-LIC-LOCATION:Europe/London
BEGIN:STANDARD
DTSTART:20251026T010000
TZOFFSETFROM:+0100
TZOFFSETTO:+0000
TZNAME:GMT
END:STANDARD
END:VTIMEZONE
END:VCALENDAR