BEGIN:VCALENDAR
VERSION:2.0
PRODID:-//wp-events-plugin.com//7.2.3.1//EN
TZID:Europe/London
X-WR-TIMEZONE:Europe/London
BEGIN:VEVENT
UID:607@nicholaspriory.com
DTSTART;TZID=Europe/London:20251002T193000
DTEND;TZID=Europe/London:20251002T220000
DTSTAMP:20250926T044458Z
URL:https://nicholaspriory.com/events/growing-old-very-disgracefully-2/
SUMMARY:Growing Old Very Disgracefully
DESCRIPTION:An evening of comedy\, sketches\, and songs from the 50’s\, 6
 0’s\, and 70’s!\nPerformed by a cast of eight ladies and gentlemen\, a
 ccompanied by Brian Lawless on guitar.\nSing-alongs are welcome at this wo
 nderful evening of entertainment\,  and refreshments will be available.\n
 Accessible performance on the ground floor for this night.\nDirections\nSt
  Nicholas Priory is on Mint Lane with walking access from Fore Street or B
 artholomew Street West.\n\nThe nearest car park is Mary Arches Street\, wh
 ich is a five-minute walk. Exeter Central railway station is a ten-minut
 e walk. The bus station is a 15-minute walk with many buses stopping on t
 he High Street which is ten minutes away.\n\nAccess\nUnfortunately\, due t
 o the nature of this historic building\, there is no wheelchair access for
  our upstairs rooms.\n\nFacilities\nOur outdoor toilet block can be made a
 vailable on request.\n\nIf you have any questions or concerns about your v
 isit please email admin@nicholaspriory.com
ATTACH;FMTTYPE=image/jpeg:https://nicholaspriory.com/wp-content/uploads/20
 25/07/1000011190-Copy.png
CATEGORIES:Featured,Music,Performance
LOCATION:St Nicholas Priory\, Mint Lane\, Off Fore Street\, Exeter\, Devon\
 , EX4 3BL\, United Kingdom
X-APPLE-STRUCTURED-LOCATION;VALUE=URI;X-ADDRESS=Mint Lane\, Off Fore Street
 \, Exeter\, Devon\, EX4 3BL\, United Kingdom;X-APPLE-RADIUS=100;X-TITLE=St
  Nicholas Priory:geo:0,0
END:VEVENT
BEGIN:VTIMEZONE
TZID:Europe/London
X-LIC-LOCATION:Europe/London
BEGIN:DAYLIGHT
DTSTART:20250330T020000
TZOFFSETFROM:+0000
TZOFFSETTO:+0100
TZNAME:BST
END:DAYLIGHT
END:VTIMEZONE
END:VCALENDAR