BEGIN:VCALENDAR
VERSION:2.0
PRODID:-//wp-events-plugin.com//7.2.3.1//EN
TZID:Europe/London
X-WR-TIMEZONE:Europe/London
BEGIN:VEVENT
UID:775@nicholaspriory.com
DTSTART;TZID=Europe/London:20260418T190000
DTEND;TZID=Europe/London:20260418T213000
DTSTAMP:20251125T181012Z
URL:https://nicholaspriory.com/events/gioachino-rossinis-la-cenerentola-ci
 nderella/
SUMMARY:Gioachino Rossini's La Cenerentola 'Cinderella'
DESCRIPTION:Exeter Opera Group is presenting Rossini's opera buffa ‘La Ce
 nerentola’: The Cinderella Story Reimagined!\n\nExperience a charming\, 
 effervescent twist on the world's most beloved fairy tale. Gioachino Rossi
 ni's La Cenerentola (Cinderella\, or Goodness Triumphant) comes to the sta
 ge\, blending dazzling comedy\, vocal fireworks\, and genuine heart.\n\nIn
  this version\, there are no fairy godmothers or glass slippers. Instead\,
  a philosopher\, a case of mistaken identity (the Prince Don Ramiro and hi
 s valet swap roles!)\, and a simple bracelet help a kind-hearted heroine n
 amed Angelina find her true destiny. This is a Cinderella for all ages\, f
 ocusing on inner beauty\, kindness\, and the triumph of a good heart over 
 vanity.\n\nJoin us for an evening of mischievous fun\, unforgettable music
 \, and pure\, unadulterated joy. With its famous "coloratura fireworks\," 
 complex ensembles (like the knotty "Questo è un nodo avviluppato")\, and 
 the triumphant final aria "Non più mesta\," La Cenerentola is a treat for
  any opera lover. Our accessible production appeals to children and adults
  alike. Full of comic hijinks\, charming characters\, and gorgeous melodie
 s\, this is the perfect introduction to the world of opera. The production
  is in the original language\, in Italian\, with piano accompaniment.\n\nW
 e are delighted to announce that our production of La Cenerentola will fea
 ture an amazing CAST\, promising an unforgettable evening of music:\n\nAng
 elina – Iryna Ilnytska\nDon Ramiro – Wendi Zhang\nDandini – Lee Andr
 eae\nDon Magnifico – Ian Spackman\nAlidoro – Nick Young\nClorinda – 
 Clare Northcott\nTisbe – Isobel Hughes\nCourtiers from Prince Ramiro's p
 alace – Chorus of Exeter Opera Group\nRichard Lucas - Piano\nTim Laurenc
 e – Othen – Piano\nDirectors – Nick Lawrence and Iryna Ilnytska\nMus
 ic Director – Stephen Moseley\n\nDoors at 6:30pm for a 7pm start\n\nDire
 ctions\nSt Nicholas Priory is on Mint Lane with walking access from Fore S
 treet or Bartholomew Street West.\n\nThe nearest car park is Mary Arches S
 treet\, which is a five-minute walk. Exeter Central railway station is a
  ten-minute walk. The bus station is a 15-minute walk with many buses sto
 pping on the High Street which is ten minutes away.\n\nAccess\nUnfortunate
 ly\, due to the nature of this historic building\, there is no wheelchair 
 access for our upstairs rooms.\n\nFacilities\nOur outdoor toilet block can
  be made available on request.\n\nIf you have any questions or concerns ab
 out your visit please email admin@nicholaspriory.com
ATTACH;FMTTYPE=image/jpeg:https://nicholaspriory.com/wp-content/uploads/20
 25/11/Poster.jpg
CATEGORIES:Arts,Music
LOCATION:St Nicholas Priory\, Mint Lane\, Off Fore Street\, Exeter\, Devon\
 , EX4 3BL\, United Kingdom
X-APPLE-STRUCTURED-LOCATION;VALUE=URI;X-ADDRESS=Mint Lane\, Off Fore Street
 \, Exeter\, Devon\, EX4 3BL\, United Kingdom;X-APPLE-RADIUS=100;X-TITLE=St
  Nicholas Priory:geo:0,0
END:VEVENT
BEGIN:VTIMEZONE
TZID:Europe/London
X-LIC-LOCATION:Europe/London
BEGIN:DAYLIGHT
DTSTART:20260329T020000
TZOFFSETFROM:+0000
TZOFFSETTO:+0100
TZNAME:BST
END:DAYLIGHT
END:VTIMEZONE
END:VCALENDAR