BEGIN:VCALENDAR
VERSION:2.0
PRODID:-//wp-events-plugin.com//7.2.3.1//EN
TZID:Europe/London
X-WR-TIMEZONE:Europe/London
BEGIN:VEVENT
UID:1030@nicholaspriory.com
DTSTART;TZID=Europe/London:20260416T190000
DTEND;TZID=Europe/London:20260416T213000
DTSTAMP:20260113T191231Z
URL:https://nicholaspriory.com/events/cole-stacey-live-at-the-priory/
SUMMARY:Cole Stacey - Live at The Priory
DESCRIPTION:\n\n\nCole Stacey performs a live concert in this remarkable 11
 th century place\, one of Devon's oldest standing places in use.\n\n\n\n\n
 \n\nImmerse yourself in this truly unique and remarkable space in the hear
 t of Devon\, in one of it's oldest standing buildings for an intimate conc
 ert with Cole Stacey as he presents his critically acclaimed debut album P
 ostcards From Lost Places.\n\nThis is an unusual and remarkable space with
  a limited capacity\, founded by William the Conqueror in 1087 as a priory
  and later turned into a rich merchant’s town house. It is the location 
 of Cole's short film 'Postcard From A Lost Place'.\n\nBringing together hi
 s years of experience on stage\, Cole's deeply personal solo shows are roo
 ted in storytelling\, directed by a love of popular song and have connecti
 on with people and places at their heart.\n\n“A magnificent sound” –
  BBC Radio 5 Live\n\n“Breathtaking\, that incredible voice” – TradFo
 lk\n\n“He is incredible”– Times Radio\n\n\nhttps://www.youtube.com/w
 atch?v=jiaC6LwGJcU\n\n\nSt Nicholas Priory welcomes you to have a look aro
 und before the show and will be providing refreshments.\n\n\n\nDoors at 7p
 m for 7:30pm start.\n\nDirections\nSt Nicholas Priory is on Mint Lane with
  walking access from Fore Street or Bartholomew Street West.\n\nThe neares
 t car park is Mary Arches Street\, which is a five-minute walk. Exeter Ce
 ntral railway station is a ten-minute walk. The bus station is a 15-minu
 te walk with many buses stopping on the High Street which is ten minutes a
 way.\n\nAccess\nUnfortunately\, due to the nature of this historic buildin
 g\, there is no wheelchair access for our upstairs rooms.\n\nFacilities\nO
 ur outdoor toilet block can be made available on request.\n\nIf you have a
 ny questions or concerns about your visit please email admin@nicholasprio
 ry.com
ATTACH;FMTTYPE=image/jpeg:https://nicholaspriory.com/wp-content/uploads/20
 26/01/small-scaled.jpg
CATEGORIES:Music,Performance
LOCATION:St Nicholas Priory\, Mint Lane\, Off Fore Street\, Exeter\, Devon\
 , EX4 3BL\, United Kingdom
X-APPLE-STRUCTURED-LOCATION;VALUE=URI;X-ADDRESS=Mint Lane\, Off Fore Street
 \, Exeter\, Devon\, EX4 3BL\, United Kingdom;X-APPLE-RADIUS=100;X-TITLE=St
  Nicholas Priory:geo:0,0
END:VEVENT
BEGIN:VTIMEZONE
TZID:Europe/London
X-LIC-LOCATION:Europe/London
BEGIN:DAYLIGHT
DTSTART:20260329T020000
TZOFFSETFROM:+0000
TZOFFSETTO:+0100
TZNAME:BST
END:DAYLIGHT
END:VTIMEZONE
END:VCALENDAR