BEGIN:VCALENDAR
VERSION:2.0
PRODID:-//wp-events-plugin.com//7.2.3.1//EN
TZID:Europe/London
X-WR-TIMEZONE:Europe/London
BEGIN:VEVENT
UID:1048@nicholaspriory.com
DTSTART;TZID=Europe/London:20260322T100000
DTEND;TZID=Europe/London:20260322T160000
DTSTAMP:20260208T193112Z
URL:https://nicholaspriory.com/events/benedictine-weekend/
SUMMARY:Benedictine Weekend
DESCRIPTION:A celebration day as part of our Benedictine weekend\, featurin
 g displays and drop in family activities - dance &amp\; drama and workshop
 s\, and Hildegard related craft activities and medieval cooking demonstrat
 ions.\n\nAlso Benedictine readings throughout the day and re-enactments.\n
 \nMeet the Pilgrims monks and nuns\n\nDon’t miss\n\n11am – 1pm Great H
 all - family workshop to create a short piece of Hildegard’s Hope Musica
 l\n\n2-4pm Extracts from Priory Players Monks and Mortality\n\nRefreshment
 s through out the day\n\nFree Entry\, Donations Welcome.\n\nDirections\nSt
  Nicholas Priory is on Mint Lane with walking access from Fore Street or B
 artholomew Street West.\n\nThe nearest car park is Mary Arches Street\, wh
 ich is a five-minute walk. Exeter Central railway station is a ten-minut
 e walk. The bus station is a 15-minute walk with many buses stopping on t
 he High Street which is ten minutes away.\n\nAccess\nUnfortunately\, due t
 o the nature of this historic building\, there is no wheelchair access for
  our upstairs rooms.\n\nFacilities\nOur outdoor toilet block can be made a
 vailable on request.\n\nIf you have any questions or concerns about your v
 isit please email admin@nicholaspriory.com
ATTACH;FMTTYPE=image/jpeg:https://nicholaspriory.com/wp-content/uploads/20
 26/01/MG_9313-Monks-washing-hands-at-St-Nix-scaled.jpg
CATEGORIES:Family Friendly,Featured,History,Interactive Experience,Opening
LOCATION:St Nicholas Priory\, Mint Lane\, Off Fore Street\, Exeter\, Devon\
 , EX4 3BL\, United Kingdom
X-APPLE-STRUCTURED-LOCATION;VALUE=URI;X-ADDRESS=Mint Lane\, Off Fore Street
 \, Exeter\, Devon\, EX4 3BL\, United Kingdom;X-APPLE-RADIUS=100;X-TITLE=St
  Nicholas Priory:geo:0,0
END:VEVENT
BEGIN:VTIMEZONE
TZID:Europe/London
X-LIC-LOCATION:Europe/London
BEGIN:STANDARD
DTSTART:20251026T010000
TZOFFSETFROM:+0100
TZOFFSETTO:+0000
TZNAME:GMT
END:STANDARD
END:VTIMEZONE
END:VCALENDAR