BEGIN:VCALENDAR
VERSION:2.0
PRODID:-//wp-events-plugin.com//7.2.3.1//EN
TZID:Europe/London
X-WR-TIMEZONE:Europe/London
BEGIN:VEVENT
UID:1050@nicholaspriory.com
DTSTART;TZID=Europe/London:20260321T183000
DTEND;TZID=Europe/London:20260321T211500
DTSTAMP:20260129T205737Z
URL:https://nicholaspriory.com/events/aspects-of-hildegard-evening-perform
 ance/
SUMMARY:Aspects of Hildegard - Evening Performance for Benedictine Weekend
DESCRIPTION:We have a very special day of events to celebrate the life of H
 ildegard of Bingen. Daytime : An exciting opportunity take part in a day o
 f meditations\, food and talks focused on the legacy of Hildegard of Binge
 n with visiting poet\, artist and actor\, Caroline Gay Way\,who is a Hilde
 gard specialist At the end of the evening Compline will be said\n\nEVENING
  PERFORMANCE 6.30 -9pm\n\nDoors open 6.30 for 7pm\n\nTickets £12\, Studen
 ts £5\n\nMedieval Bar\n\nIllustrated Talk on some of the wide range of mo
 rality plays\, operas and music Hildegard composed\, supported by musical 
 extracts and a cappella singing.\n\nAfter the performance interval Q and A
 \, and poetry around the bar.\n\nDirections\nSt Nicholas Priory is on Mint
  Lane with walking access from Fore Street or Bartholomew Street West.\n\n
 The nearest car park is Mary Arches Street\, which is a five-minute walk.
  Exeter Central railway station is a ten-minute walk. The bus station i
 s a 15-minute walk with many buses stopping on the High Street which is te
 n minutes away.\n\nAccess\nUnfortunately\, due to the nature of this histo
 ric building\, there is no wheelchair access for our upstairs rooms.\n\nFa
 cilities\nOur outdoor toilet block can be made available on request.\n\nIf
  you have any questions or concerns about your visit please email admin@n
 icholaspriory.com
ATTACH;FMTTYPE=image/jpeg:https://nicholaspriory.com/wp-content/uploads/20
 26/01/7.jpg
CATEGORIES:Family Friendly,Featured,History,Interactive Experience,Opening
LOCATION:St Nicholas Priory\, Mint Lane\, Off Fore Street\, Exeter\, Devon\
 , EX4 3BL\, United Kingdom
X-APPLE-STRUCTURED-LOCATION;VALUE=URI;X-ADDRESS=Mint Lane\, Off Fore Street
 \, Exeter\, Devon\, EX4 3BL\, United Kingdom;X-APPLE-RADIUS=100;X-TITLE=St
  Nicholas Priory:geo:0,0
END:VEVENT
BEGIN:VTIMEZONE
TZID:Europe/London
X-LIC-LOCATION:Europe/London
BEGIN:STANDARD
DTSTART:20251026T010000
TZOFFSETFROM:+0100
TZOFFSETTO:+0000
TZNAME:GMT
END:STANDARD
END:VTIMEZONE
END:VCALENDAR