BEGIN:VCALENDAR
VERSION:2.0
PRODID:-//wp-events-plugin.com//7.2.3.1//EN
TZID:Europe/London
X-WR-TIMEZONE:Europe/London
BEGIN:VEVENT
UID:1029@nicholaspriory.com
DTSTART;TZID=Europe/London:20260121T190000
DTEND;TZID=Europe/London:20260121T220000
DTSTAMP:20260103T161107Z
URL:https://nicholaspriory.com/events/a-response-concert/
SUMMARY:A Response - Concert
DESCRIPTION:Following on from cycling the length and breadth of the UK on a
  concert tour title 'Good Again?' Viola da gamba player Sarah Small is en 
 route to join Exeter based musician Emma Welton to present:\n\nA Response:
 \n\nA programme for violin and viola da gamba responding to the changing l
 andscapes of the British Isles\, exploring the connections between music\,
  the natural environment and how we travel.\n\nFeatured works include Forq
 ueray's La Girouette (weathervane)\, Sainte-Colombe's heart-wrenching Les 
 Pleurs (tears)\, Hume's A Question and An Answer\, and newly written piece
 s by both performers\, including A Response: drawing on the experience of 
 the Good Again? Tour.\n\nDoors at 6:30pm for 7pm start.\n\nDirections\nSt 
 Nicholas Priory is on Mint Lane with walking access from Fore Street or Ba
 rtholomew Street West.\n\nThe nearest car park is Mary Arches Street\, whi
 ch is a five-minute walk. Exeter Central railway station is a ten-minute
  walk. The bus station is a 15-minute walk with many buses stopping on th
 e High Street which is ten minutes away.\n\nAccess\nUnfortunately\, due to
  the nature of this historic building\, there is no wheelchair access for 
 our upstairs rooms.\n\nFacilities\nOur outdoor toilet block can be made av
 ailable on request.\n\nIf you have any questions or concerns about your vi
 sit please email admin@nicholaspriory.com
ATTACH;FMTTYPE=image/jpeg:https://nicholaspriory.com/wp-content/uploads/20
 26/01/Screenshot_20260103_160331.jpg
CATEGORIES:Music,Performance
LOCATION:St Nicholas Priory\, Mint Lane\, Off Fore Street\, Exeter\, Devon\
 , EX4 3BL\, United Kingdom
X-APPLE-STRUCTURED-LOCATION;VALUE=URI;X-ADDRESS=Mint Lane\, Off Fore Street
 \, Exeter\, Devon\, EX4 3BL\, United Kingdom;X-APPLE-RADIUS=100;X-TITLE=St
  Nicholas Priory:geo:0,0
END:VEVENT
BEGIN:VTIMEZONE
TZID:Europe/London
X-LIC-LOCATION:Europe/London
BEGIN:STANDARD
DTSTART:20251026T010000
TZOFFSETFROM:+0100
TZOFFSETTO:+0000
TZNAME:GMT
END:STANDARD
END:VTIMEZONE
END:VCALENDAR